BEGIN:VCALENDAR
VERSION:2.0
PRODID:-//jEvents 2.0 for Joomla//EN
CALSCALE:GREGORIAN
METHOD:PUBLISH
BEGIN:VTIMEZONE
TZID:Europe/Berlin
BEGIN:STANDARD
DTSTART:20251026T020000
RDATE:20260329T030000
TZOFFSETFROM:+0200
TZOFFSETTO:+0100
TZNAME:Europe/Berlin CET
END:STANDARD
BEGIN:STANDARD
DTSTART:20261025T020000
RDATE:20270328T030000
TZOFFSETFROM:+0200
TZOFFSETTO:+0100
TZNAME:Europe/Berlin CET
END:STANDARD
BEGIN:STANDARD
DTSTART:20271031T020000
RDATE:20280326T030000
TZOFFSETFROM:+0200
TZOFFSETTO:+0100
TZNAME:Europe/Berlin CET
END:STANDARD
BEGIN:STANDARD
DTSTART:20281029T020000
RDATE:20290325T030000
TZOFFSETFROM:+0200
TZOFFSETTO:+0100
TZNAME:Europe/Berlin CET
END:STANDARD
BEGIN:STANDARD
DTSTART:20291028T020000
RDATE:20300331T030000
TZOFFSETFROM:+0200
TZOFFSETTO:+0100
TZNAME:Europe/Berlin CET
END:STANDARD
BEGIN:STANDARD
DTSTART:20301027T020000
RDATE:20310330T030000
TZOFFSETFROM:+0200
TZOFFSETTO:+0100
TZNAME:Europe/Berlin CET
END:STANDARD
BEGIN:DAYLIGHT
DTSTART:20250530T100000
RDATE:20251026T020000
TZOFFSETFROM:+0100
TZOFFSETTO:+0200
TZNAME:Europe/Berlin CEST
END:DAYLIGHT
BEGIN:DAYLIGHT
DTSTART:20260329T030000
RDATE:20261025T020000
TZOFFSETFROM:+0100
TZOFFSETTO:+0200
TZNAME:Europe/Berlin CEST
END:DAYLIGHT
BEGIN:DAYLIGHT
DTSTART:20270328T030000
RDATE:20271031T020000
TZOFFSETFROM:+0100
TZOFFSETTO:+0200
TZNAME:Europe/Berlin CEST
END:DAYLIGHT
BEGIN:DAYLIGHT
DTSTART:20280326T030000
RDATE:20281029T020000
TZOFFSETFROM:+0100
TZOFFSETTO:+0200
TZNAME:Europe/Berlin CEST
END:DAYLIGHT
BEGIN:DAYLIGHT
DTSTART:20290325T030000
RDATE:20291028T020000
TZOFFSETFROM:+0100
TZOFFSETTO:+0200
TZNAME:Europe/Berlin CEST
END:DAYLIGHT
BEGIN:DAYLIGHT
DTSTART:20300331T030000
RDATE:20301027T020000
TZOFFSETFROM:+0100
TZOFFSETTO:+0200
TZNAME:Europe/Berlin CEST
END:DAYLIGHT
END:VTIMEZONE
BEGIN:VEVENT
UID:7add75edae825bb5db1964b563d7bf02
CATEGORIES:Sportabzeichen Walk
CREATED:20260403T113526
SUMMARY:2 Std. Walking-, Nordicwalking
LOCATION:: Sportplatz Eimke
DESCRIPTION:Zur Teilnahme meldet euch bitte 24 Std. vor Terminbeginn an.\nAnmelden könn
 t ihr euch unter Diese E-Mail-Adresse ist vor Spambots geschützt! Zur Anzei
 ge muss JavaScript eingeschaltet sein!
				document.getElementById('cloakbe
 d5c3c07c8a7d066837885dd244afb6').innerHTML = '';
				var prefix = '&#109;a'
  + 'i&#108;' + '&#116;o';
				var path = 'hr' + 'ef' + '=';
				var addybed
 5c3c07c8a7d066837885dd244afb6 = 'sp&#111;rt&#97;bz&#101;&#105;ch&#101;n' + 
 '&#64;';
				addybed5c3c07c8a7d066837885dd244afb6 = addybed5c3c07c8a7d06683
 7885dd244afb6 + 'sp&#111;rtj&#111;ngl&#101;&#117;r&#101;' + '&#46;' + 'd&#1
 01;';
				var addy_textbed5c3c07c8a7d066837885dd244afb6 = 'sp&#111;rt&#97;b
 z&#101;&#105;ch&#101;n' + '&#64;' + 'sp&#111;rtj&#111;ngl&#101;&#117;r&#101
 ;' + '&#46;' + 'd&#101;';document.getElementById('cloakbed5c3c07c8a7d066837
 885dd244afb6').innerHTML += '<a ' + path + '\'' + prefix + ':' + addybed5c3
 c07c8a7d066837885dd244afb6 + '\'>'+addy_textbed5c3c07c8a7d066837885dd244afb
 6+'';
		 oder direkt beim Prüfer.\nPrüfer : Birgit, Frank\nIm Anschluß Spor
 tabzeichenabnahme möglich.\n
X-ALT-DESC;FMTTYPE=text/html:<p>Zur Teilnahme meldet euch bitte 24 Std. vor Terminbeginn an.<br />Anmeld
 en könnt ihr euch unter <span id="cloakbed5c3c07c8a7d066837885dd244afb6">Di
 ese E-Mail-Adresse ist vor Spambots geschützt! Zur Anzeige muss JavaScript 
 eingeschaltet sein!</span><script type='text/javascript'>
				document.getE
 lementById('cloakbed5c3c07c8a7d066837885dd244afb6').innerHTML = '';
				var
  prefix = '&#109;a' + 'i&#108;' + '&#116;o';
				var path = 'hr' + 'ef' + '
 =';
				var addybed5c3c07c8a7d066837885dd244afb6 = 'sp&#111;rt&#97;bz&#101;
 &#105;ch&#101;n' + '&#64;';
				addybed5c3c07c8a7d066837885dd244afb6 = addy
 bed5c3c07c8a7d066837885dd244afb6 + 'sp&#111;rtj&#111;ngl&#101;&#117;r&#101;
 ' + '&#46;' + 'd&#101;';
				var addy_textbed5c3c07c8a7d066837885dd244afb6 
 = 'sp&#111;rt&#97;bz&#101;&#105;ch&#101;n' + '&#64;' + 'sp&#111;rtj&#111;ng
 l&#101;&#117;r&#101;' + '&#46;' + 'd&#101;';document.getElementById('cloakb
 ed5c3c07c8a7d066837885dd244afb6').innerHTML += '<a ' + path + '\'' + prefix
  + ':' + addybed5c3c07c8a7d066837885dd244afb6 + '\'>'+addy_textbed5c3c07c8a
 7d066837885dd244afb6+'<\/a>';
		</script>&nbsp;oder direkt beim Prüfer.</p>
 <p>Prüfer : Birgit, Frank</p><p>Im Anschluß Sportabzeichenabnahme möglich.<
 /p>
DTSTAMP:20260423T000452
DTSTART;TZID=Europe/Berlin:20260531T100000
SEQUENCE:0
TRANSP:OPAQUE
END:VEVENT
END:VCALENDAR