BEGIN:VCALENDAR
VERSION:2.0
PRODID:-//jEvents 2.0 for Joomla//EN
CALSCALE:GREGORIAN
METHOD:PUBLISH
BEGIN:VTIMEZONE
TZID:Europe/Berlin
BEGIN:STANDARD
DTSTART:20211031T020000
RDATE:20220327T030000
TZOFFSETFROM:+0200
TZOFFSETTO:+0100
TZNAME:Europe/Berlin CET
END:STANDARD
BEGIN:STANDARD
DTSTART:20221030T020000
RDATE:20230326T030000
TZOFFSETFROM:+0200
TZOFFSETTO:+0100
TZNAME:Europe/Berlin CET
END:STANDARD
BEGIN:STANDARD
DTSTART:20231029T020000
RDATE:20240331T030000
TZOFFSETFROM:+0200
TZOFFSETTO:+0100
TZNAME:Europe/Berlin CET
END:STANDARD
BEGIN:STANDARD
DTSTART:20241027T020000
RDATE:20250330T030000
TZOFFSETFROM:+0200
TZOFFSETTO:+0100
TZNAME:Europe/Berlin CET
END:STANDARD
BEGIN:STANDARD
DTSTART:20251026T020000
RDATE:20260329T030000
TZOFFSETFROM:+0200
TZOFFSETTO:+0100
TZNAME:Europe/Berlin CET
END:STANDARD
BEGIN:STANDARD
DTSTART:20261025T020000
RDATE:20270328T030000
TZOFFSETFROM:+0200
TZOFFSETTO:+0100
TZNAME:Europe/Berlin CET
END:STANDARD
BEGIN:STANDARD
DTSTART:20271031T020000
RDATE:20280326T030000
TZOFFSETFROM:+0200
TZOFFSETTO:+0100
TZNAME:Europe/Berlin CET
END:STANDARD
BEGIN:STANDARD
DTSTART:20281029T020000
RDATE:20290325T030000
TZOFFSETFROM:+0200
TZOFFSETTO:+0100
TZNAME:Europe/Berlin CET
END:STANDARD
BEGIN:STANDARD
DTSTART:20291028T020000
RDATE:20300331T030000
TZOFFSETFROM:+0200
TZOFFSETTO:+0100
TZNAME:Europe/Berlin CET
END:STANDARD
BEGIN:STANDARD
DTSTART:20301027T020000
RDATE:20310330T030000
TZOFFSETFROM:+0200
TZOFFSETTO:+0100
TZNAME:Europe/Berlin CET
END:STANDARD
BEGIN:DAYLIGHT
DTSTART:20210827T130000
RDATE:20211031T020000
TZOFFSETFROM:+0100
TZOFFSETTO:+0200
TZNAME:Europe/Berlin CEST
END:DAYLIGHT
BEGIN:DAYLIGHT
DTSTART:20220327T030000
RDATE:20221030T020000
TZOFFSETFROM:+0100
TZOFFSETTO:+0200
TZNAME:Europe/Berlin CEST
END:DAYLIGHT
BEGIN:DAYLIGHT
DTSTART:20230326T030000
RDATE:20231029T020000
TZOFFSETFROM:+0100
TZOFFSETTO:+0200
TZNAME:Europe/Berlin CEST
END:DAYLIGHT
BEGIN:DAYLIGHT
DTSTART:20240331T030000
RDATE:20241027T020000
TZOFFSETFROM:+0100
TZOFFSETTO:+0200
TZNAME:Europe/Berlin CEST
END:DAYLIGHT
BEGIN:DAYLIGHT
DTSTART:20250330T030000
RDATE:20251026T020000
TZOFFSETFROM:+0100
TZOFFSETTO:+0200
TZNAME:Europe/Berlin CEST
END:DAYLIGHT
BEGIN:DAYLIGHT
DTSTART:20260329T030000
RDATE:20261025T020000
TZOFFSETFROM:+0100
TZOFFSETTO:+0200
TZNAME:Europe/Berlin CEST
END:DAYLIGHT
BEGIN:DAYLIGHT
DTSTART:20270328T030000
RDATE:20271031T020000
TZOFFSETFROM:+0100
TZOFFSETTO:+0200
TZNAME:Europe/Berlin CEST
END:DAYLIGHT
BEGIN:DAYLIGHT
DTSTART:20280326T030000
RDATE:20281029T020000
TZOFFSETFROM:+0100
TZOFFSETTO:+0200
TZNAME:Europe/Berlin CEST
END:DAYLIGHT
BEGIN:DAYLIGHT
DTSTART:20290325T030000
RDATE:20291028T020000
TZOFFSETFROM:+0100
TZOFFSETTO:+0200
TZNAME:Europe/Berlin CEST
END:DAYLIGHT
BEGIN:DAYLIGHT
DTSTART:20300331T030000
RDATE:20301027T020000
TZOFFSETFROM:+0100
TZOFFSETTO:+0200
TZNAME:Europe/Berlin CEST
END:DAYLIGHT
END:VTIMEZONE
BEGIN:VEVENT
UID:15892a87477a42f80b40d2b22d745cf2
CATEGORIES:Sonstiges
CREATED:20220823T202104
SUMMARY:Workshop beim Kinderfestival
LOCATION:Kulturzelt am Herzogenplatz
DESCRIPTION:<p>Im Rahmen des Uelzener Kultursommers findet ein Kinderfestival statt, da
 s die Sport Jongleure mit einem offenen Jonglierworkshop ergänzen.<br /> Zw
 ischen 13 und 16 Uhr haben interessierte Kinder und Eltern die Möglichkeit 
 das Jonglieren auszuprobieren.<br /> Alle Jongleure die Lust haben sich an 
 dem Workshop-Angebot zu beteiligen, können dies gerne tun.<br /> Wenn noch 
 Fragen sind, wendet Euch gerne an <span id="cloakbcb7c7e9d5e13fe5cfb779dfed
 87afe8">Diese E-Mail-Adresse ist vor Spambots geschützt! Zur Anzeige muss J
 avaScript eingeschaltet sein!</span><script type='text/javascript'>
				doc
 ument.getElementById('cloakbcb7c7e9d5e13fe5cfb779dfed87afe8').innerHTML = '
 ';
				var prefix = '&#109;a' + 'i&#108;' + '&#116;o';
				var path = 'hr' 
 + 'ef' + '=';
				var addybcb7c7e9d5e13fe5cfb779dfed87afe8 = 'fr&#105;&#101
 ;d&#101;r&#105;k&#101;.kr&#97;&#97;z' + '&#64;';
				addybcb7c7e9d5e13fe5cf
 b779dfed87afe8 = addybcb7c7e9d5e13fe5cfb779dfed87afe8 + 'sp&#111;rtj&#111;n
 gl&#101;&#117;r&#101;' + '&#46;' + 'd&#101;';
				var addy_textbcb7c7e9d5e1
 3fe5cfb779dfed87afe8 = 'fr&#105;&#101;d&#101;r&#105;k&#101;.kr&#97;&#97;z' 
 + '&#64;' + 'sp&#111;rtj&#111;ngl&#101;&#117;r&#101;' + '&#46;' + 'd&#101;'
 ;document.getElementById('cloakbcb7c7e9d5e13fe5cfb779dfed87afe8').innerHTML
  += '<a ' + path + '\'' + prefix + ':' + addybcb7c7e9d5e13fe5cfb779dfed87af
 e8 + '\'>'+addy_textbcb7c7e9d5e13fe5cfb779dfed87afe8+'<\/a>';
		</script></
 p>
DTSTAMP:20260423T030643
DTSTART;TZID=Europe/Berlin:20220828T130000
SEQUENCE:0
TRANSP:OPAQUE
END:VEVENT
END:VCALENDAR