BEGIN:VCALENDAR
VERSION:2.0
PRODID:-//jEvents 2.0 for Joomla//EN
CALSCALE:GREGORIAN
METHOD:PUBLISH
BEGIN:VTIMEZONE
TZID:Europe/Berlin
BEGIN:STANDARD
DTSTART:20181115T150000
RDATE:20190331T030000
TZOFFSETFROM:+0200
TZOFFSETTO:+0100
TZNAME:Europe/Berlin CET
END:STANDARD
BEGIN:STANDARD
DTSTART:20191027T020000
RDATE:20200329T030000
TZOFFSETFROM:+0200
TZOFFSETTO:+0100
TZNAME:Europe/Berlin CET
END:STANDARD
BEGIN:STANDARD
DTSTART:20201025T020000
RDATE:20210328T030000
TZOFFSETFROM:+0200
TZOFFSETTO:+0100
TZNAME:Europe/Berlin CET
END:STANDARD
BEGIN:STANDARD
DTSTART:20211031T020000
RDATE:20220327T030000
TZOFFSETFROM:+0200
TZOFFSETTO:+0100
TZNAME:Europe/Berlin CET
END:STANDARD
BEGIN:STANDARD
DTSTART:20221030T020000
RDATE:20230326T030000
TZOFFSETFROM:+0200
TZOFFSETTO:+0100
TZNAME:Europe/Berlin CET
END:STANDARD
BEGIN:STANDARD
DTSTART:20231029T020000
RDATE:20240331T030000
TZOFFSETFROM:+0200
TZOFFSETTO:+0100
TZNAME:Europe/Berlin CET
END:STANDARD
BEGIN:STANDARD
DTSTART:20241027T020000
RDATE:20250330T030000
TZOFFSETFROM:+0200
TZOFFSETTO:+0100
TZNAME:Europe/Berlin CET
END:STANDARD
BEGIN:STANDARD
DTSTART:20251026T020000
RDATE:20260329T030000
TZOFFSETFROM:+0200
TZOFFSETTO:+0100
TZNAME:Europe/Berlin CET
END:STANDARD
BEGIN:STANDARD
DTSTART:20261025T020000
RDATE:20270328T030000
TZOFFSETFROM:+0200
TZOFFSETTO:+0100
TZNAME:Europe/Berlin CET
END:STANDARD
BEGIN:STANDARD
DTSTART:20271031T020000
RDATE:20280326T030000
TZOFFSETFROM:+0200
TZOFFSETTO:+0100
TZNAME:Europe/Berlin CET
END:STANDARD
BEGIN:STANDARD
DTSTART:20281029T020000
RDATE:20290325T030000
TZOFFSETFROM:+0200
TZOFFSETTO:+0100
TZNAME:Europe/Berlin CET
END:STANDARD
BEGIN:STANDARD
DTSTART:20291028T020000
RDATE:20300331T030000
TZOFFSETFROM:+0200
TZOFFSETTO:+0100
TZNAME:Europe/Berlin CET
END:STANDARD
BEGIN:STANDARD
DTSTART:20301027T020000
RDATE:20310330T030000
TZOFFSETFROM:+0200
TZOFFSETTO:+0100
TZNAME:Europe/Berlin CET
END:STANDARD
BEGIN:DAYLIGHT
DTSTART:20190331T030000
RDATE:20191027T020000
TZOFFSETFROM:+0100
TZOFFSETTO:+0200
TZNAME:Europe/Berlin CEST
END:DAYLIGHT
BEGIN:DAYLIGHT
DTSTART:20200329T030000
RDATE:20201025T020000
TZOFFSETFROM:+0100
TZOFFSETTO:+0200
TZNAME:Europe/Berlin CEST
END:DAYLIGHT
BEGIN:DAYLIGHT
DTSTART:20210328T030000
RDATE:20211031T020000
TZOFFSETFROM:+0100
TZOFFSETTO:+0200
TZNAME:Europe/Berlin CEST
END:DAYLIGHT
BEGIN:DAYLIGHT
DTSTART:20220327T030000
RDATE:20221030T020000
TZOFFSETFROM:+0100
TZOFFSETTO:+0200
TZNAME:Europe/Berlin CEST
END:DAYLIGHT
BEGIN:DAYLIGHT
DTSTART:20230326T030000
RDATE:20231029T020000
TZOFFSETFROM:+0100
TZOFFSETTO:+0200
TZNAME:Europe/Berlin CEST
END:DAYLIGHT
BEGIN:DAYLIGHT
DTSTART:20240331T030000
RDATE:20241027T020000
TZOFFSETFROM:+0100
TZOFFSETTO:+0200
TZNAME:Europe/Berlin CEST
END:DAYLIGHT
BEGIN:DAYLIGHT
DTSTART:20250330T030000
RDATE:20251026T020000
TZOFFSETFROM:+0100
TZOFFSETTO:+0200
TZNAME:Europe/Berlin CEST
END:DAYLIGHT
BEGIN:DAYLIGHT
DTSTART:20260329T030000
RDATE:20261025T020000
TZOFFSETFROM:+0100
TZOFFSETTO:+0200
TZNAME:Europe/Berlin CEST
END:DAYLIGHT
BEGIN:DAYLIGHT
DTSTART:20270328T030000
RDATE:20271031T020000
TZOFFSETFROM:+0100
TZOFFSETTO:+0200
TZNAME:Europe/Berlin CEST
END:DAYLIGHT
BEGIN:DAYLIGHT
DTSTART:20280326T030000
RDATE:20281029T020000
TZOFFSETFROM:+0100
TZOFFSETTO:+0200
TZNAME:Europe/Berlin CEST
END:DAYLIGHT
BEGIN:DAYLIGHT
DTSTART:20290325T030000
RDATE:20291028T020000
TZOFFSETFROM:+0100
TZOFFSETTO:+0200
TZNAME:Europe/Berlin CEST
END:DAYLIGHT
BEGIN:DAYLIGHT
DTSTART:20300331T030000
RDATE:20301027T020000
TZOFFSETFROM:+0100
TZOFFSETTO:+0200
TZNAME:Europe/Berlin CEST
END:DAYLIGHT
END:VTIMEZONE
BEGIN:VEVENT
UID:0842f0e9e1ebbd95d93b69f0c4a76ea3
CATEGORIES:Verein
CREATED:20190216T200012
SUMMARY:Jubiläumsveranstaltung „25 Jahre Sport Jongleure“ in Eimke
LOCATION:Hotel Wacholderheide\, Dorfstraße 3\, Eimke
DESCRIPTION: \nJubiläumsveranstaltung „25 Jahre Sport Jongleure“ in Eimke\nAm 16.11.201
 9 feiern wir auf dem Saal in unserem Gründungslokal Wacholderheide den 25. 
 Geburtstag der Sport Jongleure. Hierzu haben alle Mitglieder eine persönlic
 he Einladung erhalten und sind gebeten sich bis spätestens 27.10.2019 anzum
 elden. Sollte bei einem von euch keine Einladung angekommen sein, meldet eu
 ch bitte bei uns – dann korrigieren wir den Fehler umgehend!\nDie Veranstal
 tung beginnt um 15 Uhr mit einem bunten Buffet, zu dem wir alle bitten etwa
 s in Form von Kuchen, Keksen oder Kaffee beizutragen. Das Abendessen sowie 
 die kalten Getränke werden vom Vorstand besorgt und sind für alle Mitgliede
 r kostenlos. Außerdem gibt es eine Schwarzlicht-Show, die Enthüllung des Ju
 biläums-T-Shirts, etwas zu der Geschichte des Vereins und Live-Musik. Das E
 nde der Veranstaltung ist gegen 23 Uhr geplant.\nZu diesem besonderen Anlas
 s haben wir ein Jubiläums-T-Shirt gestaltet. Es wird im Laufe der Jubiläums
 feier enthüllt! Neugierig geworden? Dann bestellt bei eurer Anmeldung das T
 -Shirt mit, es kostet maximal 10 Euro und handelt sich um eine limitierte A
 uflage!\nAnmelden könnt ihr euch bei eurem Übungsleiter/eurer Übungsleiteri
 n oder bei:\nJulia Heinrich (Diese E-Mail-Adresse ist vor Spambots geschütz
 t! Zur Anzeige muss JavaScript eingeschaltet sein!
				document.getElementB
 yId('cloak06a64d8dc5de3670de01e395eeca3ca2').innerHTML = '';
				var prefix
  = '&#109;a' + 'i&#108;' + '&#116;o';
				var path = 'hr' + 'ef' + '=';
			
 	var addy06a64d8dc5de3670de01e395eeca3ca2 = 'j&#117;l&#105;&#97;.h&#101;&#1
 05;nr&#105;ch' + '&#64;';
				addy06a64d8dc5de3670de01e395eeca3ca2 = addy06
 a64d8dc5de3670de01e395eeca3ca2 + 'sp&#111;rtj&#111;ngl&#101;&#117;r&#101;' 
 + '&#46;' + 'd&#101;';
				var addy_text06a64d8dc5de3670de01e395eeca3ca2 = 
 'j&#117;l&#105;&#97;.h&#101;&#105;nr&#105;ch' + '&#64;' + 'sp&#111;rtj&#111
 ;ngl&#101;&#117;r&#101;' + '&#46;' + 'd&#101;';document.getElementById('clo
 ak06a64d8dc5de3670de01e395eeca3ca2').innerHTML += '<a ' + path + '\'' + pre
 fix + ':' + addy06a64d8dc5de3670de01e395eeca3ca2 + '\' target="_blank">'+ad
 dy_text06a64d8dc5de3670de01e395eeca3ca2+'';
		, 0174/2142602)\n\n\nWir freu
 en uns auf schöne Stunden mit euch allen!\nDer Vorstand der Sport Jongleure
  Dreilingen e.V.\nHinweis: Zu dieser Veranstaltung müsst ihr kein eigenes G
 eschirr mitbringen!\n \n
X-ALT-DESC;FMTTYPE=text/html:<p>&nbsp;</p><p><span style="text-decoration: underline;"><strong>Jubiläums
 veranstaltung „25 Jahre Sport Jongleure“ in Eimke</strong></span></p><p>Am 
 <strong>16.11.2019</strong> feiern wir auf dem Saal in unserem <strong>Grün
 dungslokal</strong> Wacholderheide den 25. Geburtstag der Sport Jongleure. 
 Hierzu haben alle Mitglieder eine persönliche Einladung erhalten und sind g
 ebeten sich bis <strong>spätestens 27.10.2019</strong> anzumelden. Sollte b
 ei einem von euch keine Einladung angekommen sein, meldet euch bitte bei un
 s – dann korrigieren wir den Fehler umgehend!</p><p>Die Veranstaltung begin
 nt um 15 Uhr mit einem <strong>bunten Buffet</strong>, zu dem wir alle bitt
 en etwas in Form von Kuchen, Keksen oder Kaffee beizutragen. Das <strong>Ab
 endessen</strong> sowie die kalten Getränke werden vom Vorstand besorgt und
  sind für alle Mitglieder kostenlos. Außerdem gibt es eine Schwarzlicht-Sho
 w, die Enthüllung des Jubiläums-T-Shirts, etwas zu der Geschichte des Verei
 ns und Live-Musik. Das Ende der Veranstaltung ist gegen 23 Uhr geplant.</p>
 <p>Zu diesem besonderen Anlass haben wir ein <strong>Jubiläums-T-Shirt</str
 ong> gestaltet. Es wird im Laufe der Jubiläumsfeier enthüllt! Neugierig gew
 orden? Dann bestellt bei eurer Anmeldung das T-Shirt mit, es kostet maximal
  10 Euro und handelt sich um eine limitierte Auflage!</p><p>Anmelden könnt 
 ihr euch bei eurem Übungsleiter/eurer Übungsleiterin oder bei:</p><p>Julia 
 Heinrich (<span id="cloak06a64d8dc5de3670de01e395eeca3ca2">Diese E-Mail-Adr
 esse ist vor Spambots geschützt! Zur Anzeige muss JavaScript eingeschaltet 
 sein!</span><script type='text/javascript'>
				document.getElementById('cl
 oak06a64d8dc5de3670de01e395eeca3ca2').innerHTML = '';
				var prefix = '&#1
 09;a' + 'i&#108;' + '&#116;o';
				var path = 'hr' + 'ef' + '=';
				var ad
 dy06a64d8dc5de3670de01e395eeca3ca2 = 'j&#117;l&#105;&#97;.h&#101;&#105;nr&#
 105;ch' + '&#64;';
				addy06a64d8dc5de3670de01e395eeca3ca2 = addy06a64d8dc
 5de3670de01e395eeca3ca2 + 'sp&#111;rtj&#111;ngl&#101;&#117;r&#101;' + '&#46
 ;' + 'd&#101;';
				var addy_text06a64d8dc5de3670de01e395eeca3ca2 = 'j&#117
 ;l&#105;&#97;.h&#101;&#105;nr&#105;ch' + '&#64;' + 'sp&#111;rtj&#111;ngl&#1
 01;&#117;r&#101;' + '&#46;' + 'd&#101;';document.getElementById('cloak06a64
 d8dc5de3670de01e395eeca3ca2').innerHTML += '<a ' + path + '\'' + prefix + '
 :' + addy06a64d8dc5de3670de01e395eeca3ca2 + '\' target="_blank">'+addy_text
 06a64d8dc5de3670de01e395eeca3ca2+'<\/a>';
		</script>, 0174/2142602)<br /><
 br /></p><p>Wir freuen uns auf schöne Stunden mit euch allen!<br /><em>Der 
 Vorstand der Sport Jongleure Dreilingen e.V.</em></p><p>Hinweis: Zu dieser 
 Veranstaltung müsst ihr kein eigenes Geschirr mitbringen!</p><p>&nbsp;</p>
DTSTAMP:20260425T125646
DTSTART;TZID=Europe/Berlin:20191116T150000
DTEND;TZID=Europe/Berlin:20191116T230000
SEQUENCE:0
TRANSP:OPAQUE
END:VEVENT
END:VCALENDAR